BEGIN:VCALENDAR
BEGIN:VEVENT
CLASS:PUBLIC
CREATED:20260423T171635
DESCRIPTION: 

\"Boostez votre score au TOEIC\"

Formule stage ou/et cours individuels

Durée du stage : 27 heures * (voir conditions à l\'espace Sylvan)

Dates :

 	mardi 18 avril 2017
 	mercredi 19 avril 2017
 	jeudi 20 avril 2017
 	vendredi 21 avril 2017
 	TOEIC le samedi 22 avril 2017

Organisation du stage : TOEIC

Cette formation vous intéresse et vous voulez nous contacter :

Utilisez notre fiche contact
DTEND:20170418T170000
DTSTAMP:20260423T171635
DTSTART:20170418T090000
LAST-MODIFIED:20091109T101015Z
LOCATION:Espace Sylvan, 60 rue Albert 1er, La Rochelle, , 17000
SUMMARY;LANGUAGE=en-us:Stage TOEIC-BULATS
BEGIN:VALARM
TRIGGER:-PT1440M
ACTION:DISPLAY
DESCRIPTION:Reminder
END:VALARM
END:VEVENT
END:VCALENDAR
