BEGIN:VCALENDAR
BEGIN:VEVENT
CLASS:PUBLIC
CREATED:20260423T151722
DESCRIPTION:Préparation du certificat \"sauveteur secouriste du travail\" (SST) dans le cadre de la prise en charge d\'un enfant

Réf IPERIA : MISST2017

Durée : 16 heures

Dates :

 	samedi 13 mai 2017
 	samedi 20 mai 2017

Horaires : 9h-12h et 13h-18h

Référent de la formation : Aurélian Bellou-Bousselaire - responsable pédagogique : 05 46 55 14 70

Programme de la formation : IPERIA - MISST

Cette formation vous intéresse et vous voulez nous contacter :

Utilisez notre fiche contact

Vous êtes assistant(e) maternel(le) et vous voulez vous inscrire à cette formation :

Bulletin d\'inscription IPERIA

Ce stage est organisé avec le RAM de Vouneuil / Biard (Madame Cécile Guillaume)
DTEND:20170513T180000
DTSTAMP:20260423T151722
DTSTART:20170513T090000
LAST-MODIFIED:20091109T101015Z
LOCATION:Action Sauvetage, 54 avenue Jacques Cœur, Poitiers, , 86000
SUMMARY;LANGUAGE=en-us:Stage - Préparation du certificat SST- MISST - 1ère séance / 2
BEGIN:VALARM
TRIGGER:-PT1440M
ACTION:DISPLAY
DESCRIPTION:Reminder
END:VALARM
END:VEVENT
END:VCALENDAR
