BEGIN:VCALENDAR
BEGIN:VEVENT
CLASS:PUBLIC
CREATED:20260423T170526
DESCRIPTION:Favoriser la bientraitance envers les enfants

Réf IPERIA : MIBE2017

Durée : 24 heures

 

Dates :

 	samedi 11 mars 2017
 	samedi 25 mars 2017
 	samedi 08 avril 2017

Horaires : 9h-12h 13h-18h

Lieu de formation : Hôtel IBIS - Salle Atlantic - 2 avenue Thomas Edison -86360 Chasseneuil du Poitou

Programme de la formation : Favoriser la bientraitance envers les enfants

Cette formation vous intéresse et vous voulez nous contacter :

Utilisez notre fiche contact

Vous êtes assistant(e) maternel(le) et vous voulez vous inscrire à cette formation :

Bulletin d\'inscription IPERIA

Ce stage est organisé avec le RAM Val\'Frimousse (Catherine Brunet : 05 49 88 44 05) et sera animé par Claire Boutillier

Claire Boutillier
DTEND:20170311T180000
DTSTAMP:20260423T170526
DTSTART:20170311T090000
LAST-MODIFIED:20091109T101015Z
LOCATION:Hôtel IBIS - Salle ATLANTIC, 2 avenue Thomas Edison , Chasseneuil du Poitou, , 86360
SUMMARY;LANGUAGE=en-us:Favoriser la bientraitance envers les enfants MIBE2017 - 1ère séance /3
BEGIN:VALARM
TRIGGER:-PT1440M
ACTION:DISPLAY
DESCRIPTION:Reminder
END:VALARM
END:VEVENT
END:VCALENDAR
