BEGIN:VCALENDAR
BEGIN:VEVENT
CLASS:PUBLIC
CREATED:20260423T164808
DESCRIPTION: 

Pour repartir du bon pied après les vacances : Mathématiques - Sciences physiques - Anglais

Durée : 10 heures

Dates :

 	mercredi 22 février 2017
 	mercredi 29 février 2017

Programme de la formation : consolidation scolaire

Ce stage vous intéresse et vous voulez nous contacter :

Utilisez notre fiche contact
DTEND:20170301T170000
DTSTAMP:20260423T164808
DTSTART:20170301T090000
LAST-MODIFIED:20091109T101015Z
LOCATION:Espace Sylvan, 60 rue Albert 1er, La Rochelle, , 17000
SUMMARY;LANGUAGE=en-us:Sylvan Scolaire - Stage de février
BEGIN:VALARM
TRIGGER:-PT1440M
ACTION:DISPLAY
DESCRIPTION:Reminder
END:VALARM
END:VEVENT
END:VCALENDAR
