BEGIN:VCALENDAR
BEGIN:VEVENT
CLASS:PUBLIC
CREATED:20260423T202025
DESCRIPTION: 

L&#039;apprentissage de la langue des signes françaises

Réf IPERIA : MILDS

Durée : 40 heures

Dates :

 	samedi 10 septembre 2016
 	samedi 17 septembre 2016
 	samedi 01 octobre 2016
 	samedi 05 novembre 2016
 	samedi 19 novembre 2016
 	samedi 26 novembre 2016

Programme de la formation : IPERIA - MILDS

Cette formation vous intéresse et vous voulez nous contacter :

Utilisez notre fiche contact
DTEND:20161105T170000
DTSTAMP:20260423T202025
DTSTART:20161105T090000
LAST-MODIFIED:20091109T101015Z
LOCATION:Espace Sylvan, 60 rue Albert 1er, La Rochelle, , 17000
SUMMARY;LANGUAGE=en-us:Stage  - La langue des signes française - MILDS - 4e séance / 6
BEGIN:VALARM
TRIGGER:-PT1440M
ACTION:DISPLAY
DESCRIPTION:Reminder
END:VALARM
END:VEVENT
END:VCALENDAR
