BEGIN:VCALENDAR
BEGIN:VEVENT
CLASS:PUBLIC
CREATED:20260423T164704
DESCRIPTION: 

Préparation au TOSA - compétences bureautique : Word-Excel...

Durée : 40 heures

Dates :

 	du lundi 06 mars 2017
 	au lundi 08 mai 2017

Programme de la formation : Les indispensables de la bureautique

Cette formation vous intéresse et vous voulez nous contacter :

Utilisez notre fiche contact
DTEND:20170310T150000
DTSTAMP:20260423T164704
DTSTART:20170309T130000
LAST-MODIFIED:20091109T101015Z
LOCATION:Espace Sylvan, 60 rue Albert 1er, La Rochelle, , 17000
SUMMARY;LANGUAGE=en-us:Formation - TOSA : Les indispensables de la bureautique
BEGIN:VALARM
TRIGGER:-PT1440M
ACTION:DISPLAY
DESCRIPTION:Reminder
END:VALARM
END:VEVENT
END:VCALENDAR
