BEGIN:VCALENDAR
BEGIN:VEVENT
CLASS:PUBLIC
CREATED:20260423T171037
DESCRIPTION: 

Anglais Business

Durée : sur mesure

Dates : toute l\'année

 	Le mercredi AM ou autres jours à la demande

Programme de la formation : Anglais Business

Cette formation vous intéresse et vous voulez nous contacter :

Utilisez notre fiche contact
DTEND:20170308T180000
DTSTAMP:20260423T171037
DTSTART:20170308T140000
LAST-MODIFIED:20091109T101015Z
LOCATION:Espace Sylvan, 60 rue Albert 1er, La Rochelle, , 17000
SUMMARY;LANGUAGE=en-us:Anglais Business
BEGIN:VALARM
TRIGGER:-PT1440M
ACTION:DISPLAY
DESCRIPTION:Reminder
END:VALARM
END:VEVENT
END:VCALENDAR
