BEGIN:VCALENDAR
BEGIN:VEVENT
CLASS:PUBLIC
CREATED:20260423T170257
DESCRIPTION: 

Développeur Intégrateur Web

Durée : 45 heures

Dates :

 	du lundi 06 mars 2017
 	au lundi 08 mai 2017

Programme de la formation : Développeur Intégrateur Web

Cette formation vous intéresse et vous voulez nous contacter :

Utilisez notre fiche contact
DTEND:20170324T120000
DTSTAMP:20260423T170257
DTSTART:20170323T090000
LAST-MODIFIED:20091109T101015Z
LOCATION:Espace Sylvan, 60 rue Albert 1er, La Rochelle, , 17000
SUMMARY;LANGUAGE=en-us:Formation - Développeur intégrateur Web - 
BEGIN:VALARM
TRIGGER:-PT1440M
ACTION:DISPLAY
DESCRIPTION:Reminder
END:VALARM
END:VEVENT
END:VCALENDAR
