BEGIN:VCALENDAR
BEGIN:VEVENT
CLASS:PUBLIC
CREATED:20260423T184801
DESCRIPTION: 

\"Boostez votre score au TOEIC ou au BULATS\"

Formule stage ou/et cours individuels

Durée du stage : 27 heures * (voir conditions à l\'espace Sylvan)

Dates :

 	lundi 20 février 2017
 	mardi 21 février 2017
 	mercredi 22 février 2017
 	jeudi 23 février2017
 	vendredi 24 février 2017
 	TOEIC ou BULATS le vendredi AM 24 février 2017

Organisation du stage : TOEIC-BULATS

Consultez notre brochure : Brochure TOEIC

Cette formation vous intéresse et vous voulez nous contacter :

Utilisez notre fiche contact

ou vous inscrire : Bulletin d\'inscription - TOEIC
DTEND:20170220T170000
DTSTAMP:20260423T184801
DTSTART:20170220T090000
LAST-MODIFIED:20091109T101015Z
LOCATION:Espace Sylvan, 60 rue Albert 1er, La Rochelle, , 17000
SUMMARY;LANGUAGE=en-us:Stage TOEIC-BULATS
BEGIN:VALARM
TRIGGER:-PT1440M
ACTION:DISPLAY
DESCRIPTION:Reminder
END:VALARM
END:VEVENT
END:VCALENDAR
