BEGIN:VCALENDAR
BEGIN:VEVENT
CLASS:PUBLIC
CREATED:20260423T184623
DESCRIPTION: 

Création de supports ludiques et éveil sensoriel

Réf IPERIA : 2017 MILES

Durée : 16 heures

Dates :

 	samedi 28 janvier 2017
 	samedi 11 février 2017

Programme de la formation : IPERIA - MILES2017

Cette formation vous intéresse et vous voulez nous contacter :

Utilisez notre fiche contact

Vous êtes assistant(e) maternel(le) et vous voulez vous inscrire à cette formation :

Bulletin d\'inscription IPERIA

Ce stage est animé par Bruno Benoist : Site de Bruno Benoist
DTEND:20170128T180000
DTSTAMP:20260423T184623
DTSTART:20170128T090000
LAST-MODIFIED:20091109T101015Z
LOCATION:Salle des Magnals, 192 allée des Magnals, Mignaloux Beauvoir, , 86550
SUMMARY;LANGUAGE=en-us:Stage - Supports ludiques et éveil sensoriel-2017MILES - 1ère séance / 2
BEGIN:VALARM
TRIGGER:-PT1440M
ACTION:DISPLAY
DESCRIPTION:Reminder
END:VALARM
END:VEVENT
END:VCALENDAR
