BEGIN:VCALENDAR
BEGIN:VEVENT
CLASS:PUBLIC
CREATED:20260423T184953
DESCRIPTION:S\'initier aux logiciels de bureautique dans son activité professionnelle

Réf IPERIA : 2017MILB

Durée : 20 heures

Lieu : Poitiers

Dates :

 	samedi 18 février 2017
 	samedi 11 mars 2017
 	samedi 01 avril 2017

Programme de la formation : IPERIA - MIIN

Cette formation vous intéresse et vous voulez nous contacter :

Utilisez notre fiche contact

Vous êtes assistant(e) maternel(le) et vous voulez vous inscrire à cette formation :

Bulletin d\'inscription IPERIA

Ce stage est organisé par Vienne ASSMAT (présidente Christine Dulout)
DTEND:20170218T170000
DTSTAMP:20260423T184953
DTSTART:20170218T090000
LAST-MODIFIED:20091109T101015Z
LOCATION:Club Informatique de Saint-Benoît Salle Maxime Dumoulin, 52 route de Poitiers, Saint-Benoit, , 86280
SUMMARY;LANGUAGE=en-us:Stage - Bureautique - 1ère séance / 3
BEGIN:VALARM
TRIGGER:-PT1440M
ACTION:DISPLAY
DESCRIPTION:Reminder
END:VALARM
END:VEVENT
END:VCALENDAR
