BEGIN:VCALENDAR
BEGIN:VEVENT
CLASS:PUBLIC
CREATED:20260423T184801
DESCRIPTION: 

Gestion du stress et relaxation

Réf IPERIA : MISR2017

Durée : 16 heures

Dates :

 	samedi 28 janvier 2017
 	samedi 11 février 2017

Programme de la formation : IPERIA - MISR2017

Cette formation vous intéresse et vous voulez nous contacter :

Utilisez notre fiche contact

Vous êtes assistant(e) maternel(le) et vous voulez vous inscrire à cette formation :

Bulletin d\'inscription IPERIA
DTEND:20170211T180000
DTSTAMP:20260423T184801
DTSTART:20170211T090000
LAST-MODIFIED:20091109T101015Z
LOCATION:Hôtel IBIS Beaulieu, 1 rue du Bois Dousset, Poitiers, , 86000
SUMMARY;LANGUAGE=en-us:Stage - Gestion du stress et relaxation - MISR2017- 2e séance / 2
BEGIN:VALARM
TRIGGER:-PT1440M
ACTION:DISPLAY
DESCRIPTION:Reminder
END:VALARM
END:VEVENT
END:VCALENDAR
