BEGIN:VCALENDAR
BEGIN:VEVENT
CLASS:PUBLIC
CREATED:20260423T184751
DESCRIPTION: 

Prendre soin de soi pour prendre soin des autres

Réf IPERIA : MIPSS2017

Durée : 16 heures

Dates :

 	samedi 21 janvier 2017
 	samedi 04 février 2017

Programme de la formation : IPERIA - MIPSS2017

Cette formation vous intéresse et vous voulez nous contacter :

Utilisez notre fiche contact

Vous êtes assistant(e) maternel(le) et vous voulez vous inscrire à cette formation :

Bulletin d\'inscription IPERIA
DTEND:20170204T180000
DTSTAMP:20260423T184751
DTSTART:20170204T090000
LAST-MODIFIED:20091109T101015Z
LOCATION:Salle de formation de la patinoire, 54 avenue Jacques Cœur, Poitiers, , 86000
SUMMARY;LANGUAGE=en-us:Stage - Prendre soin de soi... MIPSS2017 - 2e séance / 2
BEGIN:VALARM
TRIGGER:-PT1440M
ACTION:DISPLAY
DESCRIPTION:Reminder
END:VALARM
END:VEVENT
END:VCALENDAR
