BEGIN:VCALENDAR
BEGIN:VEVENT
CLASS:PUBLIC
CREATED:20260423T184633
DESCRIPTION: 

Préparation du certificat \"sauveteur secouriste du travail\" (SST) dans le cadre de la prise en charge d\'un enfant

Réf IPERIA : MISST2017

Durée : 16 heures

Dates :

 	samedi 21 janvier 2017
 	samedi 11 février 2017

Programme de la formation : IPERIA - MISST2017

Cette formation vous intéresse et vous voulez nous contacter :

Utilisez notre fiche contact

Vous êtes assistant(e) maternel(le) et vous voulez vous inscrire à cette formation :

Bulletin d\'inscription IPERIA

Ce stage est organisé avec le RAM de l\'ile de Ré (Madame Carine Kuehm)
DTEND:20170211T180000
DTSTAMP:20260423T184633
DTSTART:20170211T090000
LAST-MODIFIED:20091109T101015Z
LOCATION:RAM Ile de Ré, rue de Graffaud, Ars en Ré, , 17590
SUMMARY;LANGUAGE=en-us:Stage - Préparation du certificat SST- MISST2017 - 2e séance / 2
BEGIN:VALARM
TRIGGER:-PT1440M
ACTION:DISPLAY
DESCRIPTION:Reminder
END:VALARM
END:VEVENT
END:VCALENDAR
