BEGIN:VCALENDAR
BEGIN:VEVENT
CLASS:PUBLIC
CREATED:20260423T071835
DESCRIPTION:Toute l\'équipe Sylvan vous souhaite une belle fin d\'année 2017

Joyeux Noël et bonne année 2018 pour de nouvelles formations....:)

Belle Année 2018
DTEND:20180101T234500
DTSTAMP:20260423T071835
DTSTART:20171222T070000
LAST-MODIFIED:20091109T101015Z
LOCATION:, , , , 
SUMMARY;LANGUAGE=en-us:Joyeux Noël et Bonnes vacances
BEGIN:VALARM
TRIGGER:-PT1440M
ACTION:DISPLAY
DESCRIPTION:Reminder
END:VALARM
END:VEVENT
END:VCALENDAR
