BEGIN:VCALENDAR
BEGIN:VEVENT
CLASS:PUBLIC
CREATED:20260423T184946
DESCRIPTION: 

L&#039;apprentissage de la langue des signes française

Réf IPERIA : MILDS2017

Durée : 40 heures

Dates :

 	samedi 07 janvier 2017
 	samedi 28 janvier 2017
 	samedi 11 mars 2017
 	samedi 25 mars 2017
 	samedi 08 avril 2017

Programme de la formation : IPERIA - MILDS

Cette formation vous intéresse et vous voulez nous contacter : Utilisez notre fiche contact

ou directement vous inscrire en remplissant le formulaire ci-dessous :

Bulletin d&#039;inscription IPERIA
DTEND:20170128T180000
DTSTAMP:20260423T184946
DTSTART:20170128T090000
LAST-MODIFIED:20091109T101015Z
LOCATION:Espace Sylvan, 60 rue Albert 1er, La Rochelle, , 17000
SUMMARY;LANGUAGE=en-us:Stage - La langue des signes française - MILDS - 2e séance / 5
BEGIN:VALARM
TRIGGER:-PT1440M
ACTION:DISPLAY
DESCRIPTION:Reminder
END:VALARM
END:VEVENT
END:VCALENDAR
