BEGIN:VCALENDAR
BEGIN:VEVENT
CLASS:PUBLIC
CREATED:20260423T171753
DESCRIPTION: 

L\'apprentissage de la langue des signes française

Réf IPERIA : MILDS2017

Durée : 40 heures

Dates :

 	samedi 14 janvier 2017
 	samedi 21 janvier 2017
 	samedi 11 février 2017
 	samedi 18 mars 2017
 	samedi 01 avril 2017

Horaires : 9h-12h 13h-18h

Référent de formation : Aurélian Bellou-Bousselaire : 05 46 55 14 70

Programme de la formation : IPERIA - MILDS

Cette formation vous intéresse et vous voulez nous contacter : Utilisez notre fiche contact

ou directement vous inscrire en remplissant le formulaire ci-dessous :

Bulletin d\'inscription IPERIA

Ce stage est organisé avec le RAM \"Rires et Cabrioles\" d\'Esnandes (Isabelle Baudin)
DTEND:20170401T180000
DTSTAMP:20260423T171753
DTSTART:20170401T090000
LAST-MODIFIED:20091109T101015Z
LOCATION:Espace Sylvan, 60 rue Albert 1er, La Rochelle, , 17000
SUMMARY;LANGUAGE=en-us:Stage - La langue des signes française - MILDS - 5e séance / 5
BEGIN:VALARM
TRIGGER:-PT1440M
ACTION:DISPLAY
DESCRIPTION:Reminder
END:VALARM
END:VEVENT
END:VCALENDAR
