BEGIN:VCALENDAR
BEGIN:VEVENT
CLASS:PUBLIC
CREATED:20260423T184736
DESCRIPTION: 

L\'apprentissage de la langue des signes française

Réf IPERIA : MILDS2017

Durée : 40 heures

Dates :

 	samedi 14 janvier 2017
 	samedi 21 janvier 2017
 	samedi 04 février 2017
 	samedi 18 mars 2017
 	samedi 01 avril 2017

Programme de la formation : IPERIA - MILDS

Cette formation vous intéresse et vous voulez nous contacter : Utilisez notre fiche contact

ou directement vous inscrire en remplissant le formulaire ci-dessous :

Bulletin d\'inscription IPERIA

Ce stage est organisé avec le RAM \"Rires et Cabrioles\" d\'Esnandes (Isabelle Baudin)
DTEND:20170114T180000
DTSTAMP:20260423T184736
DTSTART:20170114T090000
LAST-MODIFIED:20091109T101015Z
LOCATION:Espace Sylvan, 60 rue Albert 1er, La Rochelle, , 17000
SUMMARY;LANGUAGE=en-us:Stage - La langue des signes française - MILDS - 1ère séance / 5
BEGIN:VALARM
TRIGGER:-PT1440M
ACTION:DISPLAY
DESCRIPTION:Reminder
END:VALARM
END:VEVENT
END:VCALENDAR
