BEGIN:VCALENDAR
BEGIN:VEVENT
CLASS:PUBLIC
CREATED:20260423T203925
DESCRIPTION: 

Favoriser la bientraitance envers les enfants

Réf IPERIA : AMBE

Durée : 24 heures

Dates :

 	samedi 17 septembre 2016
 	samedi 01 octobre 2016
 	samedi 10 décembre 2016

Programme de la formation : IPERIA AMBE

Cette formation vous intéresse et vous voulez nous contacter :

Utilisez notre fiche contact
DTEND:20161210T180000
DTSTAMP:20260423T203925
DTSTART:20161210T090000
LAST-MODIFIED:20091109T101015Z
LOCATION:Pôle enfance, Rue des écoles, Aigrefeuille d'Aunis, , 17290
SUMMARY;LANGUAGE=en-us:Stage - Bientraitance - Réf : AMBE - 3e séance / 3
BEGIN:VALARM
TRIGGER:-PT1440M
ACTION:DISPLAY
DESCRIPTION:Reminder
END:VALARM
END:VEVENT
END:VCALENDAR
