BEGIN:VCALENDAR
BEGIN:VEVENT
CLASS:PUBLIC
CREATED:20260423T205705
DESCRIPTION: 

Prendre soin de soi pour prendre soin des autres

Réf IPERIA : MIPSS

Durée : 16 heures

Dates :

 	samedi 10 décembre 2016
 	samedi 17 décembre 2016

Programme de la formation : IPERIA - MIPSS

Cette formation vous intéresse et vous voulez nous contacter :

Utilisez notre fiche contact

Vous êtes assistant(e) maternel(le) et vous voulez vous inscrire à cette formation :

Bulletin d&#039;inscription IPERIA
DTEND:20161210T180000
DTSTAMP:20260423T205705
DTSTART:20161210T090000
LAST-MODIFIED:20091109T101015Z
LOCATION:Salle de formation de la patinoire, 54 avenue Jacques Cœur, Poitiers, , 86000
SUMMARY;LANGUAGE=en-us:Stage - Prendre soin de soi... MIPSS - 1ère séance / 2
BEGIN:VALARM
TRIGGER:-PT1440M
ACTION:DISPLAY
DESCRIPTION:Reminder
END:VALARM
END:VEVENT
END:VCALENDAR
