BEGIN:VCALENDAR
BEGIN:VEVENT
CLASS:PUBLIC
CREATED:20260423T203925
DESCRIPTION: 

\"Boostez votre score au TOEIC\"

Formule stage ou/et cours individuels

Durée du stage : 27 heures * (voir conditions à l\'espace Sylvan)

Dates :

 	lundi 12 décembre 2016
 	mardi 13 décembre 2016
 	mercredi 14 décembre 2016
 	jeudi 15 décembre 2016
 	vendredi 16 décembre 2016
 	TOEIC le vendredi matin 16 décembre 2016

Organisation du stage : TOEIC

Cette formation vous intéresse et vous voulez nous contacter :

Utilisez notre fiche contact
DTEND:20161216T170000
DTSTAMP:20260423T203925
DTSTART:20161216T090000
LAST-MODIFIED:20091109T101015Z
LOCATION:Espace Sylvan, 60 rue Albert 1er, La Rochelle, , 17000
SUMMARY;LANGUAGE=en-us:Stage TOEIC
BEGIN:VALARM
TRIGGER:-PT1440M
ACTION:DISPLAY
DESCRIPTION:Reminder
END:VALARM
END:VEVENT
END:VCALENDAR
