BEGIN:VCALENDAR
BEGIN:VEVENT
CLASS:PUBLIC
CREATED:20260423T222813
DESCRIPTION: 

Adapter sa communication avec l&#039;enfant

Réf IPERIA : AMCREv2

Durée : 24 heures

Dates :

 	samedi 10 septembre 2016
 	samedi 24 septembre 2016
 	samedi 08 octobre 2016

Programme de la formation : IPERIA - AMCREv2

Cette formation vous intéresse et vous voulez nous contacter :

Utilisez notre fiche contact
DTEND:20160910T180000
DTSTAMP:20260423T222813
DTSTART:20160910T090000
LAST-MODIFIED:20091109T101015Z
LOCATION:RAM, Rue Jean Bart, Aytre, , 17440
SUMMARY;LANGUAGE=en-us:Stage - Adapter sa communication avec l enfant - AMCREv2 - 1ère séance / 3
BEGIN:VALARM
TRIGGER:-PT1440M
ACTION:DISPLAY
DESCRIPTION:Reminder
END:VALARM
END:VEVENT
END:VCALENDAR
