BEGIN:VCALENDAR
BEGIN:VEVENT
CLASS:PUBLIC
CREATED:20260423T205154
DESCRIPTION: 

Parce qu&#039;on peut aussi vouloir apprendre uniquement pour se faire plaisir, Sylvan Loisirs propose des cours de langues (Anglais, Espagnol,...) d&#039;informatique (bureautique - multimédia - web), des activités artistiques ( dessin , sculpture, photographie), des activités culturelles et un atelier &quot;développement durable&quot;...et pourquoi pas &quot;apprendre à fabriquer une imprimante 3D&quot;

 

Tous les lundis et jeudis de 18h à 19h

En savoir plus : Sylvan Loisirs

Vous voulez nous contacter :

Utilisez notre fiche contact
DTEND:20161128T190000
DTSTAMP:20260423T205154
DTSTART:20161128T180000
LAST-MODIFIED:20091109T101015Z
LOCATION:Espace Sylvan, 60 rue Albert 1er, La Rochelle, , 17000
SUMMARY;LANGUAGE=en-us:Sylvan loisirs - Activités multimédia-langues et activités artistiques
BEGIN:VALARM
TRIGGER:-PT1440M
ACTION:DISPLAY
DESCRIPTION:Reminder
END:VALARM
END:VEVENT
END:VCALENDAR
