BEGIN:VCALENDAR
BEGIN:VEVENT
CLASS:PUBLIC
CREATED:20260425T110405
DESCRIPTION:\"Boostez votre score au TOEIC\"

Formule stage ou/et cours individuels

Durée du stage : 27 heures * (voir conditions à l\'espace Sylvan)

Dates : vous renseigner à l\'espace Sylvan

Organisation du stage : TOEIC

Cette formation vous intéresse et vous voulez nous contacter :

Utilisez notre fiche contact
DTEND:20171029T180000
DTSTAMP:20260425T110405
DTSTART:20171023T130000
LAST-MODIFIED:20091109T101015Z
LOCATION:Espace Sylvan, 60 rue Albert 1er, La Rochelle, , 17000
SUMMARY;LANGUAGE=en-us:Préparation au TOEIC-TOEFL-BULATS
BEGIN:VALARM
TRIGGER:-PT1440M
ACTION:DISPLAY
DESCRIPTION:Reminder
END:VALARM
END:VEVENT
END:VCALENDAR
